BEGIN:VCALENDAR
VERSION:2.0
PRODID:-//Bastion Community of Resilience - ECPv6.15.20//NONSGML v1.0//EN
CALSCALE:GREGORIAN
METHOD:PUBLISH
X-WR-CALNAME:Bastion Community of Resilience
X-ORIGINAL-URL:https://joinbastion.org
X-WR-CALDESC:Events for Bastion Community of Resilience
REFRESH-INTERVAL;VALUE=DURATION:PT1H
X-Robots-Tag:noindex
X-PUBLISHED-TTL:PT1H
BEGIN:VTIMEZONE
TZID:America/Chicago
BEGIN:DAYLIGHT
TZOFFSETFROM:-0600
TZOFFSETTO:-0500
TZNAME:CDT
DTSTART:20250309T080000
END:DAYLIGHT
BEGIN:STANDARD
TZOFFSETFROM:-0500
TZOFFSETTO:-0600
TZNAME:CST
DTSTART:20251102T070000
END:STANDARD
BEGIN:DAYLIGHT
TZOFFSETFROM:-0600
TZOFFSETTO:-0500
TZNAME:CDT
DTSTART:20260308T080000
END:DAYLIGHT
BEGIN:STANDARD
TZOFFSETFROM:-0500
TZOFFSETTO:-0600
TZNAME:CST
DTSTART:20261101T070000
END:STANDARD
BEGIN:DAYLIGHT
TZOFFSETFROM:-0600
TZOFFSETTO:-0500
TZNAME:CDT
DTSTART:20270314T080000
END:DAYLIGHT
BEGIN:STANDARD
TZOFFSETFROM:-0500
TZOFFSETTO:-0600
TZNAME:CST
DTSTART:20271107T070000
END:STANDARD
END:VTIMEZONE
BEGIN:VEVENT
DTSTART;TZID=America/Chicago:20260423T093000
DTEND;TZID=America/Chicago:20260423T110000
DTSTAMP:20260423T054547
CREATED:20251016T194517Z
LAST-MODIFIED:20251016T195002Z
UID:10001144-1776936600-1776942000@joinbastion.org
SUMMARY:Coffee Cart
DESCRIPTION:Join the Bastion community every Monday through Friday morning in our Purple Heart Room for Coffee Cart. Coffee Cart is a time for residents\, neighbors\, community partners\, and new friends of Bastion to connect over coffee. All are welcome! \nMondays\, Wednesdays\, Fridays: Self-serve coffee and tea options \nTuesdays & Thursdays: Barista service from a Bastion resident/Headway participant
URL:https://joinbastion.org/event/coffee-cart-2/2026-04-23/
LOCATION:Bastion Community of Resilience\, 1901 Mirabeau Avenue\, New Orleans\, LA\, 70122\, United States
ATTACH;FMTTYPE=image/png:https://joinbastion.org/wp-content/uploads/2024/02/Screen-Shot-2024-02-02-at-2.48.54-PM-e1707240428781.png
END:VEVENT
BEGIN:VEVENT
DTSTART;TZID=America/Chicago:20260423T180000
DTEND;TZID=America/Chicago:20260423T190000
DTSTAMP:20260423T054547
CREATED:20260402T222649Z
LAST-MODIFIED:20260402T222649Z
UID:10006383-1776967200-1776970800@joinbastion.org
SUMMARY:Sound Healing with Jason
DESCRIPTION:Sound Healing is a meditative experience that involves laying down and receiving vibrational frequencies from crystal bowls tuned to the chakras that shake up and clear out stuck or stagnant energy. The goal of the experience is to invite deep rest and relaxation. \nThis session will be led by Jason\, a Navy veteran and former Nurse Practitioner.
URL:https://joinbastion.org/event/sound-healing-with-jason/
LOCATION:Bastion Community of Resilience\, 1901 Mirabeau Avenue\, New Orleans\, LA\, 70122\, United States
CATEGORIES:Wellness
END:VEVENT
END:VCALENDAR